BEGIN:VCALENDAR
VERSION:2.0
PRODID:-//Klassik in der Klinik e.V. - ECPv6.15.20//NONSGML v1.0//EN
CALSCALE:GREGORIAN
METHOD:PUBLISH
X-ORIGINAL-URL:https://klassikinderklinik.de
X-WR-CALDESC:Veranstaltungen für Klassik in der Klinik e.V.
REFRESH-INTERVAL;VALUE=DURATION:PT1H
X-Robots-Tag:noindex
X-PUBLISHED-TTL:PT1H
BEGIN:VTIMEZONE
TZID:Europe/Berlin
BEGIN:DAYLIGHT
TZOFFSETFROM:+0100
TZOFFSETTO:+0200
TZNAME:CEST
DTSTART:20250330T010000
END:DAYLIGHT
BEGIN:STANDARD
TZOFFSETFROM:+0200
TZOFFSETTO:+0100
TZNAME:CET
DTSTART:20251026T010000
END:STANDARD
BEGIN:DAYLIGHT
TZOFFSETFROM:+0100
TZOFFSETTO:+0200
TZNAME:CEST
DTSTART:20260329T010000
END:DAYLIGHT
BEGIN:STANDARD
TZOFFSETFROM:+0200
TZOFFSETTO:+0100
TZNAME:CET
DTSTART:20261025T010000
END:STANDARD
BEGIN:DAYLIGHT
TZOFFSETFROM:+0100
TZOFFSETTO:+0200
TZNAME:CEST
DTSTART:20270328T010000
END:DAYLIGHT
BEGIN:STANDARD
TZOFFSETFROM:+0200
TZOFFSETTO:+0100
TZNAME:CET
DTSTART:20271031T010000
END:STANDARD
END:VTIMEZONE
BEGIN:VEVENT
DTSTART;TZID=Europe/Berlin:20260424T140000
DTEND;TZID=Europe/Berlin:20260424T160000
DTSTAMP:20260424T095710
CREATED:20260315T100225Z
LAST-MODIFIED:20260315T100225Z
UID:2790-1777039200-1777046400@klassikinderklinik.de
SUMMARY:Uniklinikum Göttingen Antrittsvorlesung
DESCRIPTION:Clara Däubler & Lars Stoermer
URL:https://klassikinderklinik.de/event/uniklinikum-goettingen-antrittsvorlesung/
LOCATION:Uniklinikum Göttingen; Robert Kochstrasse 40
END:VEVENT
BEGIN:VEVENT
DTSTART;TZID=Europe/Berlin:20260426T150000
DTEND;TZID=Europe/Berlin:20260426T160000
DTSTAMP:20260424T095710
CREATED:20260315T100900Z
LAST-MODIFIED:20260315T100900Z
UID:2795-1777215600-1777219200@klassikinderklinik.de
SUMMARY:KONZERT INI HANNOVER
DESCRIPTION:Nastja Schkinder & Dainis Medkjaniks
URL:https://klassikinderklinik.de/event/konzert-ini-hannover-2/
LOCATION:Niedersachsen
END:VEVENT
END:VCALENDAR