BEGIN:VCALENDAR
VERSION:2.0
PRODID:-//Klassik in der Klinik e.V. - ECPv6.15.20//NONSGML v1.0//EN
CALSCALE:GREGORIAN
METHOD:PUBLISH
X-ORIGINAL-URL:https://klassikinderklinik.de
X-WR-CALDESC:Veranstaltungen für Klassik in der Klinik e.V.
REFRESH-INTERVAL;VALUE=DURATION:PT1H
X-Robots-Tag:noindex
X-PUBLISHED-TTL:PT1H
BEGIN:VTIMEZONE
TZID:Europe/Berlin
BEGIN:DAYLIGHT
TZOFFSETFROM:+0100
TZOFFSETTO:+0200
TZNAME:CEST
DTSTART:20250330T010000
END:DAYLIGHT
BEGIN:STANDARD
TZOFFSETFROM:+0200
TZOFFSETTO:+0100
TZNAME:CET
DTSTART:20251026T010000
END:STANDARD
BEGIN:DAYLIGHT
TZOFFSETFROM:+0100
TZOFFSETTO:+0200
TZNAME:CEST
DTSTART:20260329T010000
END:DAYLIGHT
BEGIN:STANDARD
TZOFFSETFROM:+0200
TZOFFSETTO:+0100
TZNAME:CET
DTSTART:20261025T010000
END:STANDARD
BEGIN:DAYLIGHT
TZOFFSETFROM:+0100
TZOFFSETTO:+0200
TZNAME:CEST
DTSTART:20270328T010000
END:DAYLIGHT
BEGIN:STANDARD
TZOFFSETFROM:+0200
TZOFFSETTO:+0100
TZNAME:CET
DTSTART:20271031T010000
END:STANDARD
END:VTIMEZONE
BEGIN:VEVENT
DTSTART;TZID=Europe/Berlin:20260204T160000
DTEND;TZID=Europe/Berlin:20260204T170000
DTSTAMP:20260424T125020
CREATED:20260202T102655Z
LAST-MODIFIED:20260202T102655Z
UID:2723-1770220800-1770224400@klassikinderklinik.de
SUMMARY:Momentry
DESCRIPTION:
URL:https://klassikinderklinik.de/event/momentry/
LOCATION:Infinitas Palliativzentrum Burgwedel
END:VEVENT
BEGIN:VEVENT
DTSTART;TZID=Europe/Berlin:20260204T190000
DTEND;TZID=Europe/Berlin:20260204T200000
DTSTAMP:20260424T125020
CREATED:20260202T100932Z
LAST-MODIFIED:20260202T100932Z
UID:2712-1770231600-1770235200@klassikinderklinik.de
SUMMARY:Duo Nowak Sarasvathi Piano Violine
DESCRIPTION:sarasvathi Nowak
URL:https://klassikinderklinik.de/event/duo-nowak-sarasvathi-piano-violine/
LOCATION:Uniklinikum Göttingen; Robert Kochstrasse 40
END:VEVENT
BEGIN:VEVENT
DTSTART;TZID=Europe/Berlin:20260205T160000
DTEND;TZID=Europe/Berlin:20260205T170000
DTSTAMP:20260424T125020
CREATED:20260202T103153Z
LAST-MODIFIED:20260202T103153Z
UID:2726-1770307200-1770310800@klassikinderklinik.de
SUMMARY:Duo FlerdeOn Akkordeon / Flöte
DESCRIPTION:  \nNastja Schkinder & Olga Heydrich Flöte
URL:https://klassikinderklinik.de/event/duo-flerdeon-akkordeon-floete/
LOCATION:Friedrich Rittelmeyer Haus\, Ellernstrasse 22A\, 30175 Hannover
END:VEVENT
BEGIN:VEVENT
DTSTART;TZID=Europe/Berlin:20260207T180000
DTEND;TZID=Europe/Berlin:20260207T190000
DTSTAMP:20260424T125020
CREATED:20260202T103741Z
LAST-MODIFIED:20260202T103741Z
UID:2732-1770487200-1770490800@klassikinderklinik.de
SUMMARY:Kaminabend
DESCRIPTION:Peter Schwebs Lars Stoermer
URL:https://klassikinderklinik.de/event/kaminabend/
LOCATION:Niedersachsen
END:VEVENT
BEGIN:VEVENT
DTSTART;TZID=Europe/Berlin:20260210T103000
DTEND;TZID=Europe/Berlin:20260210T113000
DTSTAMP:20260424T125020
CREATED:20260202T101717Z
LAST-MODIFIED:20260202T101836Z
UID:2715-1770719400-1770723000@klassikinderklinik.de
SUMMARY:Akkordeon Duo
DESCRIPTION:Nicolae Gutu\, Akkordeon
URL:https://klassikinderklinik.de/event/akkordeon-duo-6/
LOCATION:Gustav Brandt Haus\, Haeckelstrasse 2b\, 30173 Hannover
END:VEVENT
BEGIN:VEVENT
DTSTART;TZID=Europe/Berlin:20260210T163000
DTEND;TZID=Europe/Berlin:20260210T173000
DTSTAMP:20260424T125020
CREATED:20260202T102456Z
LAST-MODIFIED:20260202T102456Z
UID:2721-1770741000-1770744600@klassikinderklinik.de
SUMMARY:Akkordeon Duo GUTU KRIZMANN
DESCRIPTION:Nicolae Gutu\, Akkordeon
URL:https://klassikinderklinik.de/event/akkordeon-duo-gutu-krizmann/
LOCATION:Michael Bauer Haus\, Lönsstrasse 26\, 30175 Hannover
END:VEVENT
BEGIN:VEVENT
DTSTART;TZID=Europe/Berlin:20260214T150000
DTEND;TZID=Europe/Berlin:20260214T160000
DTSTAMP:20260424T125020
CREATED:20260202T103601Z
LAST-MODIFIED:20260202T103601Z
UID:2729-1771081200-1771084800@klassikinderklinik.de
SUMMARY:Akkordeon Violine
DESCRIPTION:Penny Simms Akkordeon & Anton Sjarow\, Violine
URL:https://klassikinderklinik.de/event/akkordeon-violine-4/
LOCATION:Altenzentrum Karl Flor\, Bergfeldstrasse 30\, Hannover
END:VEVENT
BEGIN:VEVENT
DTSTART;TZID=Europe/Berlin:20260216T143000
DTEND;TZID=Europe/Berlin:20260216T153000
DTSTAMP:20260424T125020
CREATED:20260202T142729Z
LAST-MODIFIED:20260202T142729Z
UID:2734-1771252200-1771255800@klassikinderklinik.de
SUMMARY:Karneval im Ihme Ufer
DESCRIPTION:
URL:https://klassikinderklinik.de/event/karneval-im-ihme-ufer/
LOCATION:AWO Ihme Ufer\, Ottenstrasse 10\, 30451 Hannover
END:VEVENT
BEGIN:VEVENT
DTSTART;TZID=Europe/Berlin:20260222T153000
DTEND;TZID=Europe/Berlin:20260222T163000
DTSTAMP:20260424T125020
CREATED:20260222T095317Z
LAST-MODIFIED:20260222T095317Z
UID:2758-1771774200-1771777800@klassikinderklinik.de
SUMMARY:Akkordeon Duo
DESCRIPTION:
URL:https://klassikinderklinik.de/event/akkordeon-duo-7/
LOCATION:Villa Kursana\, Zeppelinstrasse 24\, 30175 Hannover
END:VEVENT
BEGIN:VEVENT
DTSTART;TZID=Europe/Berlin:20260224T110000
DTEND;TZID=Europe/Berlin:20260224T120000
DTSTAMP:20260424T125020
CREATED:20260202T143046Z
LAST-MODIFIED:20260202T143046Z
UID:2737-1771930800-1771934400@klassikinderklinik.de
SUMMARY:Konzert in der Gib Tagesstätte
DESCRIPTION:
URL:https://klassikinderklinik.de/event/konzert-in-der-gib-tagesstaette/
LOCATION:GIB Tagesstätte Gross Buchholz
END:VEVENT
END:VCALENDAR