BEGIN:VCALENDAR
VERSION:2.0
PRODID:-//Klassik in der Klinik e.V. - ECPv6.15.20//NONSGML v1.0//EN
CALSCALE:GREGORIAN
METHOD:PUBLISH
X-WR-CALNAME:Klassik in der Klinik e.V.
X-ORIGINAL-URL:https://klassikinderklinik.de
X-WR-CALDESC:Veranstaltungen für Klassik in der Klinik e.V.
REFRESH-INTERVAL;VALUE=DURATION:PT1H
X-Robots-Tag:noindex
X-PUBLISHED-TTL:PT1H
BEGIN:VTIMEZONE
TZID:Europe/Berlin
BEGIN:DAYLIGHT
TZOFFSETFROM:+0100
TZOFFSETTO:+0200
TZNAME:CEST
DTSTART:20240331T010000
END:DAYLIGHT
BEGIN:STANDARD
TZOFFSETFROM:+0200
TZOFFSETTO:+0100
TZNAME:CET
DTSTART:20241027T010000
END:STANDARD
BEGIN:DAYLIGHT
TZOFFSETFROM:+0100
TZOFFSETTO:+0200
TZNAME:CEST
DTSTART:20250330T010000
END:DAYLIGHT
BEGIN:STANDARD
TZOFFSETFROM:+0200
TZOFFSETTO:+0100
TZNAME:CET
DTSTART:20251026T010000
END:STANDARD
BEGIN:DAYLIGHT
TZOFFSETFROM:+0100
TZOFFSETTO:+0200
TZNAME:CEST
DTSTART:20260329T010000
END:DAYLIGHT
BEGIN:STANDARD
TZOFFSETFROM:+0200
TZOFFSETTO:+0100
TZNAME:CET
DTSTART:20261025T010000
END:STANDARD
END:VTIMEZONE
BEGIN:VEVENT
DTSTART;TZID=Europe/Berlin:20251012T170000
DTEND;TZID=Europe/Berlin:20251212T180000
DTSTAMP:20260424T155009
CREATED:20251114T145522Z
LAST-MODIFIED:20251207T104317Z
UID:2672-1760288400-1765562400@klassikinderklinik.de
SUMMARY:Momentry Trio
DESCRIPTION:
URL:https://klassikinderklinik.de/event/momentry-trio/
LOCATION:Niedersachsen
END:VEVENT
BEGIN:VEVENT
DTSTART;TZID=Europe/Berlin:20251201T140000
DTEND;TZID=Europe/Berlin:20251201T153000
DTSTAMP:20260424T155009
CREATED:20251127T150939Z
LAST-MODIFIED:20251127T150939Z
UID:2683-1764597600-1764603000@klassikinderklinik.de
SUMMARY:Adventskonzert im Hospiz Bethel
DESCRIPTION:
URL:https://klassikinderklinik.de/event/adventskonzert-im-hospiz-bethel/
LOCATION:Bethel Haus der Zuversicht\, Bethelweg 25\, Bielefeld
END:VEVENT
BEGIN:VEVENT
DTSTART;TZID=Europe/Berlin:20251203T190000
DTEND;TZID=Europe/Berlin:20251203T200000
DTSTAMP:20260424T155009
CREATED:20251108T085707Z
LAST-MODIFIED:20251108T085707Z
UID:2612-1764788400-1764792000@klassikinderklinik.de
SUMMARY:Akkordeon Gesang
DESCRIPTION:Penny Simms
URL:https://klassikinderklinik.de/event/akkordeon-gesang/
LOCATION:Uniklinikum Göttingen; Robert Kochstrasse 40
END:VEVENT
BEGIN:VEVENT
DTSTART;TZID=Europe/Berlin:20251204T110000
DTEND;TZID=Europe/Berlin:20251204T120000
DTSTAMP:20260424T155009
CREATED:20251108T090011Z
LAST-MODIFIED:20251130T125054Z
UID:2614-1764846000-1764849600@klassikinderklinik.de
SUMMARY:Adventskonzert
DESCRIPTION:Stella Perevalova\, Piano
URL:https://klassikinderklinik.de/event/adventskonzert/
LOCATION:GIB Vahrenwald
END:VEVENT
BEGIN:VEVENT
DTSTART;TZID=Europe/Berlin:20251206T153000
DTEND;TZID=Europe/Berlin:20251206T163000
DTSTAMP:20260424T155009
CREATED:20251108T090410Z
LAST-MODIFIED:20251108T090410Z
UID:2620-1765035000-1765038600@klassikinderklinik.de
SUMMARY:Adventskonzert Gitarre Gesang
DESCRIPTION:Leon Braje
URL:https://klassikinderklinik.de/event/adventskonzert-gitarre-gesang/
LOCATION:Altenzentrum Karl Flor\, Bergfeldstrasse 30\, Hannover
END:VEVENT
BEGIN:VEVENT
DTSTART;TZID=Europe/Berlin:20251207T160000
DTEND;TZID=Europe/Berlin:20251207T170000
DTSTAMP:20260424T155009
CREATED:20251108T090850Z
LAST-MODIFIED:20251108T090850Z
UID:2622-1765123200-1765126800@klassikinderklinik.de
SUMMARY:Akkordeon Flöte Duon FleurDeOn
DESCRIPTION:Nastja Schkinder\, Akkordeon & Olga Heydrich\, Flöte
URL:https://klassikinderklinik.de/event/akkordeon-floete-duon-fleurdeon/
LOCATION:INI Hannover Rudolf Pichlmayrstrasse 4\,30625 Hannover
END:VEVENT
BEGIN:VEVENT
DTSTART;TZID=Europe/Berlin:20251208T193000
DTEND;TZID=Europe/Berlin:20251208T203000
DTSTAMP:20260424T155009
CREATED:20251108T091015Z
LAST-MODIFIED:20251108T091015Z
UID:2625-1765222200-1765225800@klassikinderklinik.de
SUMMARY:Lions Weihnachtsfeier
DESCRIPTION:Leon Braje Gitarre Gesang
URL:https://klassikinderklinik.de/event/lions-weihnachtsfeier/
LOCATION:Restaurant Heinrichs Isernhagen
END:VEVENT
BEGIN:VEVENT
DTSTART;TZID=Europe/Berlin:20251209T160000
DTEND;TZID=Europe/Berlin:20251209T170000
DTSTAMP:20260424T155009
CREATED:20251108T091234Z
LAST-MODIFIED:20251108T091234Z
UID:2627-1765296000-1765299600@klassikinderklinik.de
SUMMARY:Cello Duo
DESCRIPTION:Damjan Saramandic & Lev Kucher
URL:https://klassikinderklinik.de/event/cello-duo-5/
LOCATION:Wohnstift Birkenhof\, Kühnsstrasse 4\, Hannover\, 30559
END:VEVENT
BEGIN:VEVENT
DTSTART;TZID=Europe/Berlin:20251210T153000
DTEND;TZID=Europe/Berlin:20251210T163000
DTSTAMP:20260424T155009
CREATED:20251114T145343Z
LAST-MODIFIED:20251207T104431Z
UID:2668-1765380600-1765384200@klassikinderklinik.de
SUMMARY:MomentryTrio
DESCRIPTION:
URL:https://klassikinderklinik.de/event/momentrytrio/
LOCATION:Brigittenstift\, Baltenweg 3\, Barsinghausen
END:VEVENT
BEGIN:VEVENT
DTSTART;TZID=Europe/Berlin:20251210T170000
DTEND;TZID=Europe/Berlin:20251210T180000
DTSTAMP:20260424T155009
CREATED:20251207T104757Z
LAST-MODIFIED:20251207T104757Z
UID:2691-1765386000-1765389600@klassikinderklinik.de
SUMMARY:Momentry Hospiz Barsinghausen
DESCRIPTION:
URL:https://klassikinderklinik.de/event/momentry-hospiz-barsinghausen/
LOCATION:Hospiz Barsinghausen
END:VEVENT
BEGIN:VEVENT
DTSTART;TZID=Europe/Berlin:20251211T150000
DTEND;TZID=Europe/Berlin:20251211T160000
DTSTAMP:20260424T155009
CREATED:20251130T125300Z
LAST-MODIFIED:20251130T125300Z
UID:2685-1765465200-1765468800@klassikinderklinik.de
SUMMARY:Adventskonzert
DESCRIPTION:Stella Pervalova
URL:https://klassikinderklinik.de/event/adventskonzert-3/
LOCATION:AWO Ihme Ufer\, Ottenstrasse 10\, 30451 Hannover
END:VEVENT
BEGIN:VEVENT
DTSTART;TZID=Europe/Berlin:20251211T191500
DTEND;TZID=Europe/Berlin:20251211T200000
DTSTAMP:20260424T155009
CREATED:20251108T090156Z
LAST-MODIFIED:20251130T125148Z
UID:2617-1765480500-1765483200@klassikinderklinik.de
SUMMARY:Adventskonzert
DESCRIPTION:Stelle Perevalova\, Piano
URL:https://klassikinderklinik.de/event/adventskonzert-2/
LOCATION:Hospiz Burgwedel
END:VEVENT
BEGIN:VEVENT
DTSTART;TZID=Europe/Berlin:20251214T160000
DTEND;TZID=Europe/Berlin:20251214T170000
DTSTAMP:20260424T155009
CREATED:20251214T152813Z
LAST-MODIFIED:20251214T152813Z
UID:2695-1765728000-1765731600@klassikinderklinik.de
SUMMARY:Hospiz Konzert Wolfenbüttel
DESCRIPTION:sarasvathi Nowak
URL:https://klassikinderklinik.de/event/hospiz-konzert-wolfenbuettel-2/
LOCATION:Hospiz im Gutspark\, Am Gute 2\,38300 Woffenbüttel
END:VEVENT
BEGIN:VEVENT
DTSTART;TZID=Europe/Berlin:20251215T150000
DTEND;TZID=Europe/Berlin:20251215T160000
DTSTAMP:20260424T155009
CREATED:20251216T110419Z
LAST-MODIFIED:20251216T110419Z
UID:2698-1765810800-1765814400@klassikinderklinik.de
SUMMARY:GBH Leon Braje
DESCRIPTION:Leon Braje\, Gitarre Gesang
URL:https://klassikinderklinik.de/event/gbh-leon-braje/
LOCATION:Gustav Brandt Haus\, Haeckelstrasse 2b\, 30173 Hannover
END:VEVENT
BEGIN:VEVENT
DTSTART;TZID=Europe/Berlin:20251216T150000
DTEND;TZID=Europe/Berlin:20251216T160000
DTSTAMP:20260424T155009
CREATED:20251108T091728Z
LAST-MODIFIED:20251108T091728Z
UID:2633-1765897200-1765900800@klassikinderklinik.de
SUMMARY:Akkordeon Weihnachtskonzert
DESCRIPTION:Nastja Schkinder
URL:https://klassikinderklinik.de/event/akkordeon-weihnachtskonzert/
LOCATION:AWO Ihme Ufer\, Ottenstrasse 10\, 30451 Hannover
END:VEVENT
BEGIN:VEVENT
DTSTART;TZID=Europe/Berlin:20251216T184500
DTEND;TZID=Europe/Berlin:20251216T194500
DTSTAMP:20260424T155009
CREATED:20251108T091547Z
LAST-MODIFIED:20251108T091547Z
UID:2631-1765910700-1765914300@klassikinderklinik.de
SUMMARY:Adventskonzert MHH
DESCRIPTION:Nastja Schkinder & Olga Heydrich Akkordeon Flöte
URL:https://klassikinderklinik.de/event/adventskonzert-mhh/
LOCATION:MHH Hannover Kapelle\, Carl Neubert Straße 1\, Hannover\, Niedersachsen\, 30625\, Deutschland
END:VEVENT
BEGIN:VEVENT
DTSTART;TZID=Europe/Berlin:20251217T163000
DTEND;TZID=Europe/Berlin:20251217T173000
DTSTAMP:20260424T155009
CREATED:20251108T091839Z
LAST-MODIFIED:20251108T091839Z
UID:2635-1765989000-1765992600@klassikinderklinik.de
SUMMARY:Akkordeon Weihnachtskonzert
DESCRIPTION:
URL:https://klassikinderklinik.de/event/akkordeon-weihnachtskonzert-2/
LOCATION:AWO Vahrenwald\, Schleswiger Strasse 31. 30165 Hannovr
END:VEVENT
BEGIN:VEVENT
DTSTART;TZID=Europe/Berlin:20251218T153000
DTEND;TZID=Europe/Berlin:20251218T163000
DTSTAMP:20260424T155009
CREATED:20251112T132534Z
LAST-MODIFIED:20251112T132534Z
UID:2659-1766071800-1766075400@klassikinderklinik.de
SUMMARY:Streichtrio
DESCRIPTION:Streichtrio Sebastian Nowak
URL:https://klassikinderklinik.de/event/streichtrio/
LOCATION:Friedrich Rittelmeyer Haus\, Ellernstrasse 22A\, 30175 Hannover
END:VEVENT
BEGIN:VEVENT
DTSTART;TZID=Europe/Berlin:20251219T170000
DTEND;TZID=Europe/Berlin:20251219T180000
DTSTAMP:20260424T155009
CREATED:20251108T092330Z
LAST-MODIFIED:20251108T092330Z
UID:2644-1766163600-1766167200@klassikinderklinik.de
SUMMARY:Sixty1 Strings
DESCRIPTION:
URL:https://klassikinderklinik.de/event/sixty1-strings/
LOCATION:Eilenriedestift\, Bevenser Weg 10\, 30625 Hannover
END:VEVENT
BEGIN:VEVENT
DTSTART;TZID=Europe/Berlin:20251219T180000
DTEND;TZID=Europe/Berlin:20251219T190000
DTSTAMP:20260424T155009
CREATED:20251108T092152Z
LAST-MODIFIED:20251108T092152Z
UID:2642-1766167200-1766170800@klassikinderklinik.de
SUMMARY:Weihnachtsfeier geschlossene Gesellschaft
DESCRIPTION:Oxana Voyteko & Piano
URL:https://klassikinderklinik.de/event/weihnachtsfeier-geschlossene-gesellschaft/
LOCATION:Pier 51 Hannover
END:VEVENT
BEGIN:VEVENT
DTSTART;TZID=Europe/Berlin:20251221T150000
DTEND;TZID=Europe/Berlin:20251221T160000
DTSTAMP:20260424T155009
CREATED:20251204T140923Z
LAST-MODIFIED:20251204T140923Z
UID:2687-1766329200-1766332800@klassikinderklinik.de
SUMMARY:Hospiz Celle geschlossene Veranstaltung
DESCRIPTION:
URL:https://klassikinderklinik.de/event/hospiz-celle-geschlossene-veranstaltung/
LOCATION:Hospiz Celle
END:VEVENT
BEGIN:VEVENT
DTSTART;TZID=Europe/Berlin:20251222T150000
DTEND;TZID=Europe/Berlin:20251222T160000
DTSTAMP:20260424T155009
CREATED:20251118T104245Z
LAST-MODIFIED:20251118T104245Z
UID:2676-1766415600-1766419200@klassikinderklinik.de
SUMMARY:Duo FLEURdeON
DESCRIPTION:Nastja Schkinder\, Akkordeon & Olga Heydrich\, Flöte
URL:https://klassikinderklinik.de/event/duo-fleurdeon-2/
LOCATION:Harz Hospiz Goslar
END:VEVENT
BEGIN:VEVENT
DTSTART;TZID=Europe/Berlin:20251225T153000
DTEND;TZID=Europe/Berlin:20251225T163000
DTSTAMP:20260424T155009
CREATED:20251108T092519Z
LAST-MODIFIED:20251108T092519Z
UID:2647-1766676600-1766680200@klassikinderklinik.de
SUMMARY:Weihnachtskonzert Piano
DESCRIPTION:Stella Perevalova
URL:https://klassikinderklinik.de/event/weihnachtskonzert-piano-2/
LOCATION:Altenzentrum Karl Flor\, Bergfeldstrasse 30\, Hannover
END:VEVENT
BEGIN:VEVENT
DTSTART;TZID=Europe/Berlin:20251231T170000
DTEND;TZID=Europe/Berlin:20251231T183000
DTSTAMP:20260424T155009
CREATED:20251118T144522Z
LAST-MODIFIED:20251118T144522Z
UID:2680-1767200400-1767205800@klassikinderklinik.de
SUMMARY:Silvesterkonzert Eilenriedestift
DESCRIPTION:sarasvathi Nowak
URL:https://klassikinderklinik.de/event/silvesterkonzert-eilenriedestift-2/
LOCATION:Eilenriedestift\, Bevenser Weg 10\, 30625 Hannover
END:VEVENT
END:VCALENDAR