BEGIN:VCALENDAR
VERSION:2.0
PRODID:-//Klassik in der Klinik e.V. - ECPv6.15.20//NONSGML v1.0//EN
CALSCALE:GREGORIAN
METHOD:PUBLISH
X-ORIGINAL-URL:https://klassikinderklinik.de
X-WR-CALDESC:Veranstaltungen für Klassik in der Klinik e.V.
REFRESH-INTERVAL;VALUE=DURATION:PT1H
X-Robots-Tag:noindex
X-PUBLISHED-TTL:PT1H
BEGIN:VTIMEZONE
TZID:Europe/Berlin
BEGIN:DAYLIGHT
TZOFFSETFROM:+0100
TZOFFSETTO:+0200
TZNAME:CEST
DTSTART:20240331T010000
END:DAYLIGHT
BEGIN:STANDARD
TZOFFSETFROM:+0200
TZOFFSETTO:+0100
TZNAME:CET
DTSTART:20241027T010000
END:STANDARD
BEGIN:DAYLIGHT
TZOFFSETFROM:+0100
TZOFFSETTO:+0200
TZNAME:CEST
DTSTART:20250330T010000
END:DAYLIGHT
BEGIN:STANDARD
TZOFFSETFROM:+0200
TZOFFSETTO:+0100
TZNAME:CET
DTSTART:20251026T010000
END:STANDARD
BEGIN:DAYLIGHT
TZOFFSETFROM:+0100
TZOFFSETTO:+0200
TZNAME:CEST
DTSTART:20260329T010000
END:DAYLIGHT
BEGIN:STANDARD
TZOFFSETFROM:+0200
TZOFFSETTO:+0100
TZNAME:CET
DTSTART:20261025T010000
END:STANDARD
END:VTIMEZONE
BEGIN:VEVENT
DTSTART;TZID=Europe/Berlin:20251012T170000
DTEND;TZID=Europe/Berlin:20251212T180000
DTSTAMP:20260424T190318
CREATED:20251114T145522Z
LAST-MODIFIED:20251207T104317Z
UID:2672-1760288400-1765562400@klassikinderklinik.de
SUMMARY:Momentry Trio
DESCRIPTION:
URL:https://klassikinderklinik.de/event/momentry-trio/
LOCATION:Niedersachsen
END:VEVENT
BEGIN:VEVENT
DTSTART;TZID=Europe/Berlin:20251103T170000
DTEND;TZID=Europe/Berlin:20251103T180000
DTSTAMP:20260424T190318
CREATED:20251031T104027Z
LAST-MODIFIED:20251031T104027Z
UID:2583-1762189200-1762192800@klassikinderklinik.de
SUMMARY:Piano Violoncello
DESCRIPTION:Elene Bobrovskikh Pano & Yongtou Zhang Cello
URL:https://klassikinderklinik.de/event/piano-violoncello/
LOCATION:Eilenriedestift\, Bevenser Weg 10\, 30625 Hannover
END:VEVENT
BEGIN:VEVENT
DTSTART;TZID=Europe/Berlin:20251104T160000
DTEND;TZID=Europe/Berlin:20251104T170000
DTSTAMP:20260424T190318
CREATED:20251031T104319Z
LAST-MODIFIED:20251031T104319Z
UID:2585-1762272000-1762275600@klassikinderklinik.de
SUMMARY:Cello Quartett
DESCRIPTION:Damjan Saramandic\, Lev Kucher Elisa Aylon & Fernando
URL:https://klassikinderklinik.de/event/cello-quartett/
LOCATION:Friedrich Rittelmeyer Haus\, Ellernstrasse 22A\, 30175 Hannover
END:VEVENT
BEGIN:VEVENT
DTSTART;TZID=Europe/Berlin:20251108T180000
DTEND;TZID=Europe/Berlin:20251108T200000
DTSTAMP:20260424T190318
CREATED:20251031T104529Z
LAST-MODIFIED:20251031T104529Z
UID:2587-1762624800-1762632000@klassikinderklinik.de
SUMMARY:Geburtstag G. Benz geschlossene Gesellschaft
DESCRIPTION:
URL:https://klassikinderklinik.de/event/geburtstag-g-benz-geschlossene-gesellschaft/
LOCATION:Golfpark Isernhagen
END:VEVENT
BEGIN:VEVENT
DTSTART;TZID=Europe/Berlin:20251109T160000
DTEND;TZID=Europe/Berlin:20251109T170000
DTSTAMP:20260424T190318
CREATED:20251110T144431Z
LAST-MODIFIED:20251110T144431Z
UID:2655-1762704000-1762707600@klassikinderklinik.de
SUMMARY:Klavier Piano Duo
DESCRIPTION:Vitalii Maranchuk & Mariia Niemets
URL:https://klassikinderklinik.de/event/klavier-piano-duo/
LOCATION:Henriettenstift Hannover\, Marienstrasse 72-90
END:VEVENT
BEGIN:VEVENT
DTSTART;TZID=Europe/Berlin:20251111T153000
DTEND;TZID=Europe/Berlin:20251111T163000
DTSTAMP:20260424T190318
CREATED:20251108T083647Z
LAST-MODIFIED:20251108T083647Z
UID:2609-1762875000-1762878600@klassikinderklinik.de
SUMMARY:Duo Violinissimo
DESCRIPTION:Dainis Medjaniks & Elina Medjanika
URL:https://klassikinderklinik.de/event/duo-violinissimo-7/
LOCATION:GDA KLeefeld
END:VEVENT
BEGIN:VEVENT
DTSTART;TZID=Europe/Berlin:20251111T163000
DTEND;TZID=Europe/Berlin:20251111T173000
DTSTAMP:20260424T190318
CREATED:20251031T104703Z
LAST-MODIFIED:20251031T104703Z
UID:2590-1762878600-1762882200@klassikinderklinik.de
SUMMARY:Klavierkonzert Ioana Andreesciu
DESCRIPTION:
URL:https://klassikinderklinik.de/event/klavierkonzert-ioana-andreesciu/
LOCATION:Michael Bauer Haus\, Lönsstrasse 26\, 30175 Hannover
END:VEVENT
BEGIN:VEVENT
DTSTART;TZID=Europe/Berlin:20251114T153000
DTEND;TZID=Europe/Berlin:20251114T163000
DTSTAMP:20260424T190318
CREATED:20251031T104849Z
LAST-MODIFIED:20251031T104849Z
UID:2592-1763134200-1763137800@klassikinderklinik.de
SUMMARY:Meta Piano Trio
DESCRIPTION:Meta Piano Trio Litauen
URL:https://klassikinderklinik.de/event/meta-piano-trio/
LOCATION:Gustav Brandt Haus\, Haeckelstrasse 2b\, 30173 Hannover
END:VEVENT
BEGIN:VEVENT
DTSTART;TZID=Europe/Berlin:20251114T170000
DTEND;TZID=Europe/Berlin:20251114T180000
DTSTAMP:20260424T190318
CREATED:20251109T083357Z
LAST-MODIFIED:20251213T115247Z
UID:2649-1763139600-1763143200@klassikinderklinik.de
SUMMARY:Trio Verena Spies
DESCRIPTION:Trio Verena Spies
URL:https://klassikinderklinik.de/event/trio-verena-spies/
LOCATION:Eilenriedestift\, Bevenser Weg 10\, 30625 Hannover
END:VEVENT
BEGIN:VEVENT
DTSTART;TZID=Europe/Berlin:20251114T170000
DTEND;TZID=Europe/Berlin:20251114T180000
DTSTAMP:20260424T190318
CREATED:20251109T103414Z
LAST-MODIFIED:20251109T103414Z
UID:2653-1763139600-1763143200@klassikinderklinik.de
SUMMARY:Trio Verena Spies
DESCRIPTION:Trio Verena Spies
URL:https://klassikinderklinik.de/event/trio-verena-spies-2/
LOCATION:Eilenriedestift\, Bevenser Weg 10\, 30625 Hannover
END:VEVENT
BEGIN:VEVENT
DTSTART;TZID=Europe/Berlin:20251115T153000
DTEND;TZID=Europe/Berlin:20251115T163000
DTSTAMP:20260424T190318
CREATED:20251105T091610Z
LAST-MODIFIED:20251105T091610Z
UID:2606-1763220600-1763224200@klassikinderklinik.de
SUMMARY:Absinth & Charleston
DESCRIPTION:
URL:https://klassikinderklinik.de/event/absinth-charleston-2/
LOCATION:Altenzentrum Karl Flor\, Bergfeldstrasse 30\, Hannover
END:VEVENT
BEGIN:VEVENT
DTSTART;TZID=Europe/Berlin:20251115T160000
DTEND;TZID=Europe/Berlin:20251115T170000
DTSTAMP:20260424T190318
CREATED:20251116T091136Z
LAST-MODIFIED:20251116T091136Z
UID:2674-1763222400-1763226000@klassikinderklinik.de
SUMMARY:Piano Konzert
DESCRIPTION:Ioana Andreesku Rumänien
URL:https://klassikinderklinik.de/event/piano-konzert-4/
LOCATION:Henriettenstift Hannover\, Marienstrasse 72-90
END:VEVENT
BEGIN:VEVENT
DTSTART;TZID=Europe/Berlin:20251116T160000
DTEND;TZID=Europe/Berlin:20251116T170000
DTSTAMP:20260424T190318
CREATED:20251031T105108Z
LAST-MODIFIED:20251031T105108Z
UID:2594-1763308800-1763312400@klassikinderklinik.de
SUMMARY:Gitarre Flöte
DESCRIPTION:Tymofii Dei & Pavlo Paksyn
URL:https://klassikinderklinik.de/event/gitarre-floete-3/
LOCATION:AWO Vahrenwald\, Schleswiger Strasse 31. 30165 Hannovr
END:VEVENT
BEGIN:VEVENT
DTSTART;TZID=Europe/Berlin:20251117T163000
DTEND;TZID=Europe/Berlin:20251117T170000
DTSTAMP:20260424T190318
CREATED:20251031T105326Z
LAST-MODIFIED:20251031T105326Z
UID:2596-1763397000-1763398800@klassikinderklinik.de
SUMMARY:Piano Konzert
DESCRIPTION:Julie Jia
URL:https://klassikinderklinik.de/event/piano-konzert-3/
LOCATION:Friedrich Rittelmeyer Haus\, Ellernstrasse 22A\, 30175 Hannover
END:VEVENT
BEGIN:VEVENT
DTSTART;TZID=Europe/Berlin:20251123T143000
DTEND;TZID=Europe/Berlin:20251123T153000
DTSTAMP:20260424T190318
CREATED:20251110T144636Z
LAST-MODIFIED:20251110T144636Z
UID:2657-1763908200-1763911800@klassikinderklinik.de
SUMMARY:Violine Piano
DESCRIPTION:Vitalii Maranchuk & Mariia Niemets
URL:https://klassikinderklinik.de/event/violine-piano-7/
LOCATION:Henriettenstift Hannover\, Marienstrasse 72-90
END:VEVENT
BEGIN:VEVENT
DTSTART;TZID=Europe/Berlin:20251125T160000
DTEND;TZID=Europe/Berlin:20251125T170000
DTSTAMP:20260424T190318
CREATED:20251031T105637Z
LAST-MODIFIED:20251031T105637Z
UID:2598-1764086400-1764090000@klassikinderklinik.de
SUMMARY:Duo Violinissimo
DESCRIPTION:  \nDainis Medjaniks & Elina Medjanika
URL:https://klassikinderklinik.de/event/duo-violinissimo-6/
LOCATION:Wohnstift Birkenhof\, Kühnsstrasse 4\, Hannover\, 30559
END:VEVENT
BEGIN:VEVENT
DTSTART;TZID=Europe/Berlin:20251125T170000
DTEND;TZID=Europe/Berlin:20251125T183000
DTSTAMP:20260424T190318
CREATED:20251031T105852Z
LAST-MODIFIED:20251031T105852Z
UID:2600-1764090000-1764095400@klassikinderklinik.de
SUMMARY:Sternchen\, Sterne\, Stars unter der Schirmherrschft von Prof. Igor Levit
DESCRIPTION:Vier junge Künstler der HMTMH
URL:https://klassikinderklinik.de/event/sternchen-sterne-stars-unter-der-schirmherrschft-von-prof-igor-levit/
LOCATION:Eilenriedestift\, Bevenser Weg 10\, 30625 Hannover
END:VEVENT
BEGIN:VEVENT
DTSTART;TZID=Europe/Berlin:20251128T160000
DTEND;TZID=Europe/Berlin:20251128T170000
DTSTAMP:20260424T190318
CREATED:20251031T110123Z
LAST-MODIFIED:20251031T110123Z
UID:2603-1764345600-1764349200@klassikinderklinik.de
SUMMARY:Konzert im Hospiz Salzgitter
DESCRIPTION:  \nNastja Schkinder\, Akkordeon & Olga Heydrich\, Flöte
URL:https://klassikinderklinik.de/event/konzert-im-hospiz-salzgitter/
LOCATION:Hospiz Salzgitter
END:VEVENT
BEGIN:VEVENT
DTSTART;TZID=Europe/Berlin:20251129T150000
DTEND;TZID=Europe/Berlin:20251129T170000
DTSTAMP:20260424T190318
CREATED:20251113T133309Z
LAST-MODIFIED:20251113T133309Z
UID:2662-1764428400-1764435600@klassikinderklinik.de
SUMMARY:Duo FleurDeon
DESCRIPTION:Nastja Schkinder & Olga Heydrich
URL:https://klassikinderklinik.de/event/duo-fleurdeon/
LOCATION:AWO Vahrenwald\, Schleswiger Strasse 31. 30165 Hannovr
END:VEVENT
BEGIN:VEVENT
DTSTART;TZID=Europe/Berlin:20251130T150000
DTEND;TZID=Europe/Berlin:20251130T160000
DTSTAMP:20260424T190318
CREATED:20251113T135740Z
LAST-MODIFIED:20251113T135740Z
UID:2666-1764514800-1764518400@klassikinderklinik.de
SUMMARY:Duo FleurdeOn
DESCRIPTION:Nastja Schkinder & Olga Heydrich
URL:https://klassikinderklinik.de/event/duo-fleurdeon-3/
LOCATION:AWO Seniorenzentrum Körtingsdorf\, Körtingsdorf 1\, Hannover\, Niedersachsen\, 30445\, Deutschland
END:VEVENT
END:VCALENDAR