BEGIN:VCALENDAR
VERSION:2.0
PRODID:-//Klassik in der Klinik e.V. - ECPv6.15.20//NONSGML v1.0//EN
CALSCALE:GREGORIAN
METHOD:PUBLISH
X-WR-CALNAME:Klassik in der Klinik e.V.
X-ORIGINAL-URL:https://klassikinderklinik.de
X-WR-CALDESC:Veranstaltungen für Klassik in der Klinik e.V.
REFRESH-INTERVAL;VALUE=DURATION:PT1H
X-Robots-Tag:noindex
X-PUBLISHED-TTL:PT1H
BEGIN:VTIMEZONE
TZID:Europe/Berlin
BEGIN:DAYLIGHT
TZOFFSETFROM:+0100
TZOFFSETTO:+0200
TZNAME:CEST
DTSTART:20250330T010000
END:DAYLIGHT
BEGIN:STANDARD
TZOFFSETFROM:+0200
TZOFFSETTO:+0100
TZNAME:CET
DTSTART:20251026T010000
END:STANDARD
BEGIN:DAYLIGHT
TZOFFSETFROM:+0100
TZOFFSETTO:+0200
TZNAME:CEST
DTSTART:20260329T010000
END:DAYLIGHT
BEGIN:STANDARD
TZOFFSETFROM:+0200
TZOFFSETTO:+0100
TZNAME:CET
DTSTART:20261025T010000
END:STANDARD
BEGIN:DAYLIGHT
TZOFFSETFROM:+0100
TZOFFSETTO:+0200
TZNAME:CEST
DTSTART:20270328T010000
END:DAYLIGHT
BEGIN:STANDARD
TZOFFSETFROM:+0200
TZOFFSETTO:+0100
TZNAME:CET
DTSTART:20271031T010000
END:STANDARD
END:VTIMEZONE
BEGIN:VEVENT
DTSTART;TZID=Europe/Berlin:20260423T170000
DTEND;TZID=Europe/Berlin:20260423T180000
DTSTAMP:20260424T095802
CREATED:20260315T095813Z
LAST-MODIFIED:20260315T100007Z
UID:2788-1776963600-1776967200@klassikinderklinik.de
SUMMARY:Eilenriedestift
DESCRIPTION:Elena Popova & Aurelia Mertens
URL:https://klassikinderklinik.de/event/eilenriedestift-2/
LOCATION:Eilenriedestift\, Bevenser Weg 10\, 30625 Hannover
END:VEVENT
BEGIN:VEVENT
DTSTART;TZID=Europe/Berlin:20260418T193000
DTEND;TZID=Europe/Berlin:20260418T210000
DTSTAMP:20260424T095802
CREATED:20260315T100402Z
LAST-MODIFIED:20260315T100402Z
UID:2792-1776540600-1776546000@klassikinderklinik.de
SUMMARY:Geburtstagsfeier privat
DESCRIPTION:
URL:https://klassikinderklinik.de/event/geburtstagsfeier-privat/
LOCATION:Herrenhausen
END:VEVENT
BEGIN:VEVENT
DTSTART;TZID=Europe/Berlin:20260416T153000
DTEND;TZID=Europe/Berlin:20260416T163000
DTSTAMP:20260424T095802
CREATED:20260315T095521Z
LAST-MODIFIED:20260315T095521Z
UID:2786-1776353400-1776357000@klassikinderklinik.de
SUMMARY:KONZERT GBH
DESCRIPTION:Shan Chi Hsu & Taavi Orro
URL:https://klassikinderklinik.de/event/konzert-gbh/
LOCATION:Gustav Brandt Haus\, Haeckelstrasse 2b\, 30173 Hannover
END:VEVENT
BEGIN:VEVENT
DTSTART;TZID=Europe/Berlin:20260414T160000
DTEND;TZID=Europe/Berlin:20260414T170000
DTSTAMP:20260424T095802
CREATED:20260315T103308Z
LAST-MODIFIED:20260315T103308Z
UID:2797-1776182400-1776186000@klassikinderklinik.de
SUMMARY:KONZERT MBH
DESCRIPTION:Marie Rosa Günter & Franziska Giesemann
URL:https://klassikinderklinik.de/event/konzert-mbh/
LOCATION:Michael Bauer Haus\, Lönsstrasse 26\, 30175 Hannover
END:VEVENT
BEGIN:VEVENT
DTSTART;TZID=Europe/Berlin:20260407T160000
DTEND;TZID=Europe/Berlin:20260407T170000
DTSTAMP:20260424T095802
CREATED:20260315T095306Z
LAST-MODIFIED:20260315T095306Z
UID:2784-1775577600-1775581200@klassikinderklinik.de
SUMMARY:Musik auf den Stationen
DESCRIPTION:N.N.
URL:https://klassikinderklinik.de/event/musik-auf-den-stationen/
LOCATION:Friedrich Rittelmeyer Haus\, Ellernstrasse 22A\, 30175 Hannover
END:VEVENT
BEGIN:VEVENT
DTSTART;TZID=Europe/Berlin:20260406T160000
DTEND;TZID=Europe/Berlin:20260406T170000
DTSTAMP:20260424T095802
CREATED:20260315T095047Z
LAST-MODIFIED:20260315T113311Z
UID:2779-1775491200-1775494800@klassikinderklinik.de
SUMMARY:KONZERT AWO
DESCRIPTION:Nikodem & Cristobal
URL:https://klassikinderklinik.de/event/konzert-awo/
LOCATION:AWO Seniorenzentrum Körtingsdorf\, Körtingsdorf 1\, Hannover\, Niedersachsen\, 30445\, Deutschland
END:VEVENT
BEGIN:VEVENT
DTSTART;TZID=Europe/Berlin:20260405T150000
DTEND;TZID=Europe/Berlin:20260405T160000
DTSTAMP:20260424T095802
CREATED:20260315T113115Z
LAST-MODIFIED:20260315T113115Z
UID:2799-1775401200-1775404800@klassikinderklinik.de
SUMMARY:KONZERT AWO KÖRTINGSDORF
DESCRIPTION:
URL:https://klassikinderklinik.de/event/konzert-awo-koertingsdorf/
LOCATION:AWO Seniorenzentrum Körtingsdorf\, Körtingsdorf 1\, Hannover\, Niedersachsen\, 30445\, Deutschland
END:VEVENT
BEGIN:VEVENT
DTSTART;TZID=Europe/Berlin:20260401T190000
DTEND;TZID=Europe/Berlin:20260401T200000
DTSTAMP:20260424T095802
CREATED:20260315T094833Z
LAST-MODIFIED:20260315T094833Z
UID:2774-1775070000-1775073600@klassikinderklinik.de
SUMMARY:Konzert im Uniklinikum
DESCRIPTION:Ula Drescher & Nicoletta Ion
URL:https://klassikinderklinik.de/event/konzert-im-uniklinikum/
LOCATION:Uniklinikum Göttingen; Robert Kochstrasse 40
END:VEVENT
BEGIN:VEVENT
DTSTART;TZID=Europe/Berlin:20260320T170000
DTEND;TZID=Europe/Berlin:20260320T180000
DTSTAMP:20260424T095802
CREATED:20260222T095656Z
LAST-MODIFIED:20260222T095722Z
UID:2764-1774026000-1774029600@klassikinderklinik.de
SUMMARY:Duo Lavigna
DESCRIPTION:Laute und Flöte
URL:https://klassikinderklinik.de/event/duo-lavigna/
LOCATION:Eilenriedestift\, Bevenser Weg 10\, 30625 Hannover
END:VEVENT
BEGIN:VEVENT
DTSTART;TZID=Europe/Berlin:20260316T200000
DTEND;TZID=Europe/Berlin:20260316T213000
DTSTAMP:20260424T095802
CREATED:20260222T095538Z
LAST-MODIFIED:20260222T095538Z
UID:2762-1773691200-1773696600@klassikinderklinik.de
SUMMARY:Konzert TAK Hannover
DESCRIPTION:Lars Leppers Tenor\, Stage Music Hamburg & Stafano De Laurenzo\, Piano
URL:https://klassikinderklinik.de/event/konzert-tak-hannover/
LOCATION:Niedersachsen
END:VEVENT
BEGIN:VEVENT
DTSTART;TZID=Europe/Berlin:20260315T180000
DTEND;TZID=Europe/Berlin:20260315T190000
DTSTAMP:20260424T095802
CREATED:20260222T095021Z
LAST-MODIFIED:20260222T095021Z
UID:2754-1773597600-1773601200@klassikinderklinik.de
SUMMARY:Piano Sopran
DESCRIPTION:Marie Rosa Günter & Franziska Giesemann
URL:https://klassikinderklinik.de/event/piano-sopran-2/
LOCATION:Wohnpark Burgwedel\, Fuhrbergerstrasse 2\,30938 Burgwedel
END:VEVENT
BEGIN:VEVENT
DTSTART;TZID=Europe/Berlin:20260315T160000
DTEND;TZID=Europe/Berlin:20260315T170000
DTSTAMP:20260424T095802
CREATED:20260315T095155Z
LAST-MODIFIED:20260315T095155Z
UID:2782-1773590400-1773594000@klassikinderklinik.de
SUMMARY:KONZERT AWO Vahrenwald
DESCRIPTION:Nikodem & Cristobal
URL:https://klassikinderklinik.de/event/konzert-awo-vahrenwald/
LOCATION:AWO Vahrenwald\, Schleswiger Strasse 31. 30165 Hannovr
END:VEVENT
BEGIN:VEVENT
DTSTART;TZID=Europe/Berlin:20260315T150000
DTEND;TZID=Europe/Berlin:20260315T163000
DTSTAMP:20260424T095802
CREATED:20260222T100007Z
LAST-MODIFIED:20260222T100007Z
UID:2767-1773586800-1773592200@klassikinderklinik.de
SUMMARY:Jazz Im Altenzentrum
DESCRIPTION:Oxana Voytenko und Boris \, Piano
URL:https://klassikinderklinik.de/event/jazz-im-altenzentrum/
LOCATION:Altenzentrum Karl Flor\, Bergfeldstrasse 30\, Hannover
END:VEVENT
BEGIN:VEVENT
DTSTART;TZID=Europe/Berlin:20260315T150000
DTEND;TZID=Europe/Berlin:20260315T160000
DTSTAMP:20260424T095802
CREATED:20260222T100142Z
LAST-MODIFIED:20260222T100216Z
UID:2769-1773586800-1773590400@klassikinderklinik.de
SUMMARY:POP im Altenzentrum
DESCRIPTION:Penny & Major Tom
URL:https://klassikinderklinik.de/event/pop-im-altenzentrum/
LOCATION:AWO Seniorenzentrum Körtingsdorf\, Körtingsdorf 1\, Hannover\, Niedersachsen\, 30445\, Deutschland
END:VEVENT
BEGIN:VEVENT
DTSTART;TZID=Europe/Berlin:20260306T190000
DTEND;TZID=Europe/Berlin:20260306T203000
DTSTAMP:20260424T095802
CREATED:20260222T094712Z
LAST-MODIFIED:20260222T094712Z
UID:2752-1772823600-1772829000@klassikinderklinik.de
SUMMARY:Mitarbeiterkonzert
DESCRIPTION:Clara Däubler\, Kontrabass & Lars Däubler\, Trompete
URL:https://klassikinderklinik.de/event/mitarbeiterkonzert/
LOCATION:Wohnpark Burgwedel\, Fuhrbergerstrasse 2\,30938 Burgwedel
END:VEVENT
BEGIN:VEVENT
DTSTART;TZID=Europe/Berlin:20260306T170000
DTEND;TZID=Europe/Berlin:20260306T180000
DTSTAMP:20260424T095802
CREATED:20260222T094517Z
LAST-MODIFIED:20260222T094517Z
UID:2750-1772816400-1772820000@klassikinderklinik.de
SUMMARY:Akkordeon Duo Igor Krizmann & Miroslav Grahovac
DESCRIPTION:
URL:https://klassikinderklinik.de/event/akkordeon-duo-igor-krizmann-miroslav-grahovac/
LOCATION:Eilenriedestift\, Bevenser Weg 10\, 30625 Hannover
END:VEVENT
BEGIN:VEVENT
DTSTART;TZID=Europe/Berlin:20260304T160000
DTEND;TZID=Europe/Berlin:20260304T170000
DTSTAMP:20260424T095802
CREATED:20260222T094237Z
LAST-MODIFIED:20260222T094237Z
UID:2748-1772640000-1772643600@klassikinderklinik.de
SUMMARY:Konzert Tenor Piano
DESCRIPTION:Larsw Leppers; Gabriele Jocaite\, Sopran & Stefano De Laurenzi\, Piano
URL:https://klassikinderklinik.de/event/konzert-tenor-piano/
LOCATION:Niedersachsen
END:VEVENT
BEGIN:VEVENT
DTSTART;TZID=Europe/Berlin:20260301T153000
DTEND;TZID=Europe/Berlin:20260301T163000
DTSTAMP:20260424T095802
CREATED:20260222T093850Z
LAST-MODIFIED:20260222T093850Z
UID:2746-1772379000-1772382600@klassikinderklinik.de
SUMMARY:Sixty1 Strings
DESCRIPTION:Sixty1 Strings
URL:https://klassikinderklinik.de/event/sixty1-strings-2/
LOCATION:Gustav Brandt Haus\, Haeckelstrasse 2b\, 30173 Hannover
END:VEVENT
BEGIN:VEVENT
DTSTART;TZID=Europe/Berlin:20260224T110000
DTEND;TZID=Europe/Berlin:20260224T120000
DTSTAMP:20260424T095802
CREATED:20260202T143046Z
LAST-MODIFIED:20260202T143046Z
UID:2737-1771930800-1771934400@klassikinderklinik.de
SUMMARY:Konzert in der Gib Tagesstätte
DESCRIPTION:
URL:https://klassikinderklinik.de/event/konzert-in-der-gib-tagesstaette/
LOCATION:GIB Tagesstätte Gross Buchholz
END:VEVENT
BEGIN:VEVENT
DTSTART;TZID=Europe/Berlin:20260222T153000
DTEND;TZID=Europe/Berlin:20260222T163000
DTSTAMP:20260424T095802
CREATED:20260222T095317Z
LAST-MODIFIED:20260222T095317Z
UID:2758-1771774200-1771777800@klassikinderklinik.de
SUMMARY:Akkordeon Duo
DESCRIPTION:
URL:https://klassikinderklinik.de/event/akkordeon-duo-7/
LOCATION:Villa Kursana\, Zeppelinstrasse 24\, 30175 Hannover
END:VEVENT
BEGIN:VEVENT
DTSTART;TZID=Europe/Berlin:20260216T143000
DTEND;TZID=Europe/Berlin:20260216T153000
DTSTAMP:20260424T095802
CREATED:20260202T142729Z
LAST-MODIFIED:20260202T142729Z
UID:2734-1771252200-1771255800@klassikinderklinik.de
SUMMARY:Karneval im Ihme Ufer
DESCRIPTION:
URL:https://klassikinderklinik.de/event/karneval-im-ihme-ufer/
LOCATION:AWO Ihme Ufer\, Ottenstrasse 10\, 30451 Hannover
END:VEVENT
BEGIN:VEVENT
DTSTART;TZID=Europe/Berlin:20260214T150000
DTEND;TZID=Europe/Berlin:20260214T160000
DTSTAMP:20260424T095802
CREATED:20260202T103601Z
LAST-MODIFIED:20260202T103601Z
UID:2729-1771081200-1771084800@klassikinderklinik.de
SUMMARY:Akkordeon Violine
DESCRIPTION:Penny Simms Akkordeon & Anton Sjarow\, Violine
URL:https://klassikinderklinik.de/event/akkordeon-violine-4/
LOCATION:Altenzentrum Karl Flor\, Bergfeldstrasse 30\, Hannover
END:VEVENT
BEGIN:VEVENT
DTSTART;TZID=Europe/Berlin:20260210T163000
DTEND;TZID=Europe/Berlin:20260210T173000
DTSTAMP:20260424T095802
CREATED:20260202T102456Z
LAST-MODIFIED:20260202T102456Z
UID:2721-1770741000-1770744600@klassikinderklinik.de
SUMMARY:Akkordeon Duo GUTU KRIZMANN
DESCRIPTION:Nicolae Gutu\, Akkordeon
URL:https://klassikinderklinik.de/event/akkordeon-duo-gutu-krizmann/
LOCATION:Michael Bauer Haus\, Lönsstrasse 26\, 30175 Hannover
END:VEVENT
BEGIN:VEVENT
DTSTART;TZID=Europe/Berlin:20260210T103000
DTEND;TZID=Europe/Berlin:20260210T113000
DTSTAMP:20260424T095802
CREATED:20260202T101717Z
LAST-MODIFIED:20260202T101836Z
UID:2715-1770719400-1770723000@klassikinderklinik.de
SUMMARY:Akkordeon Duo
DESCRIPTION:Nicolae Gutu\, Akkordeon
URL:https://klassikinderklinik.de/event/akkordeon-duo-6/
LOCATION:Gustav Brandt Haus\, Haeckelstrasse 2b\, 30173 Hannover
END:VEVENT
BEGIN:VEVENT
DTSTART;TZID=Europe/Berlin:20260207T180000
DTEND;TZID=Europe/Berlin:20260207T190000
DTSTAMP:20260424T095802
CREATED:20260202T103741Z
LAST-MODIFIED:20260202T103741Z
UID:2732-1770487200-1770490800@klassikinderklinik.de
SUMMARY:Kaminabend
DESCRIPTION:Peter Schwebs Lars Stoermer
URL:https://klassikinderklinik.de/event/kaminabend/
LOCATION:Niedersachsen
END:VEVENT
BEGIN:VEVENT
DTSTART;TZID=Europe/Berlin:20260205T160000
DTEND;TZID=Europe/Berlin:20260205T170000
DTSTAMP:20260424T095802
CREATED:20260202T103153Z
LAST-MODIFIED:20260202T103153Z
UID:2726-1770307200-1770310800@klassikinderklinik.de
SUMMARY:Duo FlerdeOn Akkordeon / Flöte
DESCRIPTION:  \nNastja Schkinder & Olga Heydrich Flöte
URL:https://klassikinderklinik.de/event/duo-flerdeon-akkordeon-floete/
LOCATION:Friedrich Rittelmeyer Haus\, Ellernstrasse 22A\, 30175 Hannover
END:VEVENT
BEGIN:VEVENT
DTSTART;TZID=Europe/Berlin:20260204T190000
DTEND;TZID=Europe/Berlin:20260204T200000
DTSTAMP:20260424T095802
CREATED:20260202T100932Z
LAST-MODIFIED:20260202T100932Z
UID:2712-1770231600-1770235200@klassikinderklinik.de
SUMMARY:Duo Nowak Sarasvathi Piano Violine
DESCRIPTION:sarasvathi Nowak
URL:https://klassikinderklinik.de/event/duo-nowak-sarasvathi-piano-violine/
LOCATION:Uniklinikum Göttingen; Robert Kochstrasse 40
END:VEVENT
BEGIN:VEVENT
DTSTART;TZID=Europe/Berlin:20260204T160000
DTEND;TZID=Europe/Berlin:20260204T170000
DTSTAMP:20260424T095802
CREATED:20260202T102655Z
LAST-MODIFIED:20260202T102655Z
UID:2723-1770220800-1770224400@klassikinderklinik.de
SUMMARY:Momentry
DESCRIPTION:
URL:https://klassikinderklinik.de/event/momentry/
LOCATION:Infinitas Palliativzentrum Burgwedel
END:VEVENT
BEGIN:VEVENT
DTSTART;TZID=Europe/Berlin:20260118T170000
DTEND;TZID=Europe/Berlin:20260118T183000
DTSTAMP:20260424T095802
CREATED:20260112T113044Z
LAST-MODIFIED:20260112T113044Z
UID:2707-1768755600-1768761000@klassikinderklinik.de
SUMMARY:NDR Akademisten
DESCRIPTION:NorddeutscherRundfunk
URL:https://klassikinderklinik.de/event/ndr-akademisten/
LOCATION:Eilenriedestift\, Bevenser Weg 10\, 30625 Hannover
END:VEVENT
BEGIN:VEVENT
DTSTART;TZID=Europe/Berlin:20260115T153000
DTEND;TZID=Europe/Berlin:20260115T163000
DTSTAMP:20260424T095802
CREATED:20260112T112811Z
LAST-MODIFIED:20260112T112811Z
UID:2705-1768491000-1768494600@klassikinderklinik.de
SUMMARY:Duo Violinissimo
DESCRIPTION:Dainis Medjaniks & Elina Medjanika
URL:https://klassikinderklinik.de/event/duo-violinissimo-8/
LOCATION:Friedrich Rittelmeyer Haus\, Ellernstrasse 22A\, 30175 Hannover
END:VEVENT
END:VCALENDAR