BEGIN:VCALENDAR
VERSION:2.0
PRODID:-//Klassik in der Klinik e.V. - ECPv6.15.20//NONSGML v1.0//EN
CALSCALE:GREGORIAN
METHOD:PUBLISH
X-WR-CALNAME:Klassik in der Klinik e.V.
X-ORIGINAL-URL:https://klassikinderklinik.de
X-WR-CALDESC:Veranstaltungen für Klassik in der Klinik e.V.
REFRESH-INTERVAL;VALUE=DURATION:PT1H
X-Robots-Tag:noindex
X-PUBLISHED-TTL:PT1H
BEGIN:VTIMEZONE
TZID:Europe/Berlin
BEGIN:DAYLIGHT
TZOFFSETFROM:+0100
TZOFFSETTO:+0200
TZNAME:CEST
DTSTART:20250330T010000
END:DAYLIGHT
BEGIN:STANDARD
TZOFFSETFROM:+0200
TZOFFSETTO:+0100
TZNAME:CET
DTSTART:20251026T010000
END:STANDARD
BEGIN:DAYLIGHT
TZOFFSETFROM:+0100
TZOFFSETTO:+0200
TZNAME:CEST
DTSTART:20260329T010000
END:DAYLIGHT
BEGIN:STANDARD
TZOFFSETFROM:+0200
TZOFFSETTO:+0100
TZNAME:CET
DTSTART:20261025T010000
END:STANDARD
BEGIN:DAYLIGHT
TZOFFSETFROM:+0100
TZOFFSETTO:+0200
TZNAME:CEST
DTSTART:20270328T010000
END:DAYLIGHT
BEGIN:STANDARD
TZOFFSETFROM:+0200
TZOFFSETTO:+0100
TZNAME:CET
DTSTART:20271031T010000
END:STANDARD
END:VTIMEZONE
BEGIN:VEVENT
DTSTART;TZID=Europe/Berlin:20260204T160000
DTEND;TZID=Europe/Berlin:20260204T170000
DTSTAMP:20260424T142105
CREATED:20260202T102655Z
LAST-MODIFIED:20260202T102655Z
UID:2723-1770220800-1770224400@klassikinderklinik.de
SUMMARY:Momentry
DESCRIPTION:
URL:https://klassikinderklinik.de/event/momentry/
LOCATION:Infinitas Palliativzentrum Burgwedel
END:VEVENT
BEGIN:VEVENT
DTSTART;TZID=Europe/Berlin:20260204T190000
DTEND;TZID=Europe/Berlin:20260204T200000
DTSTAMP:20260424T142105
CREATED:20260202T100932Z
LAST-MODIFIED:20260202T100932Z
UID:2712-1770231600-1770235200@klassikinderklinik.de
SUMMARY:Duo Nowak Sarasvathi Piano Violine
DESCRIPTION:sarasvathi Nowak
URL:https://klassikinderklinik.de/event/duo-nowak-sarasvathi-piano-violine/
LOCATION:Uniklinikum Göttingen; Robert Kochstrasse 40
END:VEVENT
END:VCALENDAR