BEGIN:VCALENDAR
VERSION:2.0
PRODID:-//Klassik in der Klinik e.V. - ECPv6.15.20//NONSGML v1.0//EN
CALSCALE:GREGORIAN
METHOD:PUBLISH
X-ORIGINAL-URL:https://klassikinderklinik.de
X-WR-CALDESC:Veranstaltungen für Klassik in der Klinik e.V.
REFRESH-INTERVAL;VALUE=DURATION:PT1H
X-Robots-Tag:noindex
X-PUBLISHED-TTL:PT1H
BEGIN:VTIMEZONE
TZID:Europe/Berlin
BEGIN:DAYLIGHT
TZOFFSETFROM:+0100
TZOFFSETTO:+0200
TZNAME:CEST
DTSTART:20240331T010000
END:DAYLIGHT
BEGIN:STANDARD
TZOFFSETFROM:+0200
TZOFFSETTO:+0100
TZNAME:CET
DTSTART:20241027T010000
END:STANDARD
BEGIN:DAYLIGHT
TZOFFSETFROM:+0100
TZOFFSETTO:+0200
TZNAME:CEST
DTSTART:20250330T010000
END:DAYLIGHT
BEGIN:STANDARD
TZOFFSETFROM:+0200
TZOFFSETTO:+0100
TZNAME:CET
DTSTART:20251026T010000
END:STANDARD
BEGIN:DAYLIGHT
TZOFFSETFROM:+0100
TZOFFSETTO:+0200
TZNAME:CEST
DTSTART:20260329T010000
END:DAYLIGHT
BEGIN:STANDARD
TZOFFSETFROM:+0200
TZOFFSETTO:+0100
TZNAME:CET
DTSTART:20261025T010000
END:STANDARD
END:VTIMEZONE
BEGIN:VEVENT
DTSTART;TZID=Europe/Berlin:20251216T150000
DTEND;TZID=Europe/Berlin:20251216T160000
DTSTAMP:20260424T174632
CREATED:20251108T091728Z
LAST-MODIFIED:20251108T091728Z
UID:2633-1765897200-1765900800@klassikinderklinik.de
SUMMARY:Akkordeon Weihnachtskonzert
DESCRIPTION:Nastja Schkinder
URL:https://klassikinderklinik.de/event/akkordeon-weihnachtskonzert/
LOCATION:AWO Ihme Ufer\, Ottenstrasse 10\, 30451 Hannover
END:VEVENT
BEGIN:VEVENT
DTSTART;TZID=Europe/Berlin:20251216T184500
DTEND;TZID=Europe/Berlin:20251216T194500
DTSTAMP:20260424T174632
CREATED:20251108T091547Z
LAST-MODIFIED:20251108T091547Z
UID:2631-1765910700-1765914300@klassikinderklinik.de
SUMMARY:Adventskonzert MHH
DESCRIPTION:Nastja Schkinder & Olga Heydrich Akkordeon Flöte
URL:https://klassikinderklinik.de/event/adventskonzert-mhh/
LOCATION:MHH Hannover Kapelle\, Carl Neubert Straße 1\, Hannover\, Niedersachsen\, 30625\, Deutschland
END:VEVENT
END:VCALENDAR